BEGIN:VCALENDAR
VERSION:2.0
PRODID:-//ChamberMaster//Event Calendar 2.0//EN
METHOD:PUBLISH
X-PUBLISHED-TTL:P3D
REFRESH-INTERVAL:P3D
CALSCALE:GREGORIAN
BEGIN:VEVENT
DTSTART:20150402T153000Z
DTEND:20150402T153000Z
X-MICROSOFT-CDO-ALLDAYEVENT:FALSE
SUMMARY:Performance Gear RC
DESCRIPTION:Ribbon Cutting
X-ALT-DESC;FMTTYPE=text/html:Ribbon Cutting
LOCATION:5719 Hwy 25 Suite 205
UID:e.1195.4332
SEQUENCE:3
DTSTAMP:20260425T170156Z
URL:https://members.flowoodchamber.com/events/details/performance-gear-rc-04-02-2015-4332
END:VEVENT

END:VCALENDAR
