BEGIN:VCALENDAR
VERSION:2.0
PRODID:-//ChamberMaster//Event Calendar 2.0//EN
METHOD:PUBLISH
X-PUBLISHED-TTL:P3D
REFRESH-INTERVAL:P3D
CALSCALE:GREGORIAN
BEGIN:VEVENT
DTSTART:20150317T153000Z
DTEND:20150317T153000Z
X-MICROSOFT-CDO-ALLDAYEVENT:FALSE
SUMMARY:Red Rock Mortgage RC
DESCRIPTION:Ribbon Cutting
X-ALT-DESC;FMTTYPE=text/html:Ribbon Cutting
LOCATION:4343 Lakeland Drive Flowood\, MS 39232
UID:e.1195.4323
SEQUENCE:3
DTSTAMP:20260425T191110Z
URL:https://members.flowoodchamber.com/events/details/red-rock-mortgage-rc-03-17-2015-4323
END:VEVENT

END:VCALENDAR
