BEGIN:VCALENDAR
VERSION:2.0
PRODID:-//ChamberMaster//Event Calendar 2.0//EN
METHOD:PUBLISH
X-PUBLISHED-TTL:P3D
REFRESH-INTERVAL:P3D
CALSCALE:GREGORIAN
BEGIN:VEVENT
DTSTART;VALUE=DATE:20250501
DTEND;VALUE=DATE:20250524
TRANSP:TRANSPARENT
X-MICROSOFT-CDO-ALLDAYEVENT:TRUE
SUMMARY:Register as an exhibitor for Healthy MS Conference at the Sheraton (through May 23)
DESCRIPTION:The Mississippi State Department of Health and Mississippi Health Disparities invite you to become a valued sponsor or exhibitor at the 2025 Empowering Communities for a Healthy Mississippi Conference.\n\n \n\nRESERVE YOUR SPOT TODAY\n\nSpaces for sponsors and exhibitors are limited\, so don't wait! To secure participation\, please submit your completed sponsorship/exhibitor forms and payment by May 23\, 2025. An online form and payment option are available at HealthyMSConference.com. \n\n\n\nThis event brings together healthcare professionals\, community leaders\, and organizations from across Mississippi to collaborate on strategies that improve the health and well-being of all Mississippians.\n\n\n\nSAVE THE DATE! JUNE 4 6\, 2025 | SHERATON FLOWOOD\, MISSISSIPPI  \n\n\n\nThe 2025 Empowering Communities for a Healthy Mississippi Conference (ECHMC) is open to the public and will feature interactive workshops and informative sessions to address the challenges faced by healthcare professionals\, educators\, civic leaders\, and community and faith-based organizations in combating Mississippi's pressing health disparities. It's no secret that Mississippi ranks 49th in overall health nationwide\, which is why this event offers an invaluable opportunity for us to unite and make a positive impact. By participating as a sponsor or exhibitor\, you and your organization can encourage meaningful change and drive advancements toward a healthier Mississippi.\n\n\n\nWHAT TO EXPECT \n\nOver 500 participants and 50 exhibitors are anticipated!\n\nBooth opportunities start as low as $250.\n\nEach exhibitor package includes a 6-foot skirted table and two chairs in the exhibit hall.\n\nEXHIBITORS ARE ENCOURAGED TO BRING A DOOR PRIZE TO BE RAFFLED DURING THE EVENT.
X-ALT-DESC;FMTTYPE=text/html:<span style="font-size:14px\;"><span style="font-family:arial\;">The Mississippi State Department of Health and Mississippi Health Disparities invite you to become a valued sponsor or exhibitor at the 2025 Empowering Communities for a Healthy Mississippi Conference.<br />\n&nbsp\;</span><br />\n<strong>RESERVE YOUR SPOT TODAY</strong><br />\nSpaces for sponsors and exhibitors are limited\, so don&rsquo\;t wait! To secure participation\, please submit your completed sponsorship/exhibitor forms and payment by May 23\, 2025. An online form and payment option are available at HealthyMSConference.com.&nbsp\;<br />\n<br />\n<span style="font-family:arial\;">This event brings together healthcare professionals\, community leaders\, and organizations from across Mississippi to collaborate on strategies that improve the health and well-being of all Mississippians.</span><br />\n<br />\n<strong>SAVE THE DATE! JUNE 4&ndash\;6\, 2025 | SHERATON FLOWOOD\, MISSISSIPPI&nbsp\;&nbsp\;</strong><br />\n<br />\nThe 2025 Empowering Communities for a Healthy Mississippi Conference (ECHMC) is open to the public and will feature interactive workshops and informative sessions to address the challenges faced by healthcare professionals\, educators\, civic leaders\, and community and faith-based organizations in combating Mississippi&rsquo\;s pressing health disparities. It&rsquo\;s no secret that Mississippi ranks 49th in overall health nationwide\, which is why this event offers an invaluable opportunity for us to unite and make a positive impact. By participating as a sponsor or exhibitor\, you and your organization can encourage meaningful change and drive advancements toward a healthier Mississippi.<br />\n<br />\n<strong>WHAT TO EXPECT </strong><br />\nOver 500 participants and 50 exhibitors are anticipated!<br />\nBooth opportunities start as low as $250.<br />\nEach exhibitor package includes a 6-foot skirted table and two chairs in the exhibit hall.<br />\nEXHIBITORS ARE ENCOURAGED TO BRING A DOOR PRIZE TO BE RAFFLED DURING THE EVENT.</span>
LOCATION:Sheraton Flowood
UID:e.1195.6710
SEQUENCE:3
DTSTAMP:20260420T044706Z
URL:https://members.flowoodchamber.com/events/details/register-as-an-exhibitor-for-healthy-ms-conference-at-the-sheraton-through-may-23-6710
END:VEVENT

END:VCALENDAR
