BEGIN:VCALENDAR
VERSION:2.0
PRODID:-//ChamberMaster//Event Calendar 2.0//EN
METHOD:PUBLISH
X-PUBLISHED-TTL:P3D
REFRESH-INTERVAL:P3D
CALSCALE:GREGORIAN
BEGIN:VEVENT
DTSTART:20180501T190000Z
DTEND:20180501T190000Z
X-MICROSOFT-CDO-ALLDAYEVENT:FALSE
SUMMARY:Ribbon Cutting for Alzheimer's Association\, MS Chapter
DESCRIPTION:Ribbon Cutting
X-ALT-DESC;FMTTYPE=text/html:Ribbon Cutting
LOCATION:207 W. Jackson Street (second floor) Ridgeland\, MS 39157
UID:e.1195.5449
SEQUENCE:3
DTSTAMP:20260423T022043Z
URL:https://members.flowoodchamber.com/events/details/ribbon-cutting-for-alzheimer-s-association-ms-chapter-5449
END:VEVENT

END:VCALENDAR
