BEGIN:VCALENDAR
VERSION:2.0
PRODID:-//ChamberMaster//Event Calendar 2.0//EN
METHOD:PUBLISH
X-PUBLISHED-TTL:P3D
REFRESH-INTERVAL:P3D
CALSCALE:GREGORIAN
BEGIN:VEVENT
DTSTART:20180323T160000Z
DTEND:20180323T160000Z
X-MICROSOFT-CDO-ALLDAYEVENT:FALSE
SUMMARY:Ribbon Cutting for Ashley HomeStore
DESCRIPTION:Ribbon Cutting
X-ALT-DESC;FMTTYPE=text/html:Ribbon Cutting
LOCATION:210 Promenade Blvd Flowood\, MS 39232
UID:e.1195.5439
SEQUENCE:3
DTSTAMP:20260423T054403Z
URL:https://members.flowoodchamber.com/events/details/ribbon-cutting-for-ashley-homestore-5439
END:VEVENT

END:VCALENDAR
