BEGIN:VCALENDAR
VERSION:2.0
PRODID:-//ChamberMaster//Event Calendar 2.0//EN
METHOD:PUBLISH
X-PUBLISHED-TTL:P3D
REFRESH-INTERVAL:P3D
CALSCALE:GREGORIAN
BEGIN:VEVENT
DTSTART:20170112T150000Z
DTEND:20170112T150000Z
X-MICROSOFT-CDO-ALLDAYEVENT:FALSE
SUMMARY:Ribbon Cutting for Aspen Dental
DESCRIPTION:Ribbon Cutting
X-ALT-DESC;FMTTYPE=text/html:Ribbon Cutting
LOCATION:105 Ridge Way\, Suite C Flowood\, MS 39232 (new center in front of Table 100)
UID:e.1195.5323
SEQUENCE:3
DTSTAMP:20260424T032306Z
URL:https://members.flowoodchamber.com/events/details/ribbon-cutting-for-aspen-dental-5323
END:VEVENT

END:VCALENDAR
