BEGIN:VCALENDAR
VERSION:2.0
PRODID:-//ChamberMaster//Event Calendar 2.0//EN
METHOD:PUBLISH
X-PUBLISHED-TTL:P3D
REFRESH-INTERVAL:P3D
CALSCALE:GREGORIAN
BEGIN:VEVENT
DTSTART:20170801T210000Z
DTEND:20170801T210000Z
X-MICROSOFT-CDO-ALLDAYEVENT:FALSE
SUMMARY:Ribbon Cutting for Char
DESCRIPTION:Ribbon Cutting
X-ALT-DESC;FMTTYPE=text/html:Ribbon Cutting
LOCATION:4500 Interstate 55 North Frontage Rd Jackson\, MS 39211
UID:e.1195.5381
SEQUENCE:3
DTSTAMP:20260423T163701Z
URL:https://members.flowoodchamber.com/events/details/ribbon-cutting-for-char-5381
END:VEVENT

END:VCALENDAR
