BEGIN:VCALENDAR
VERSION:2.0
PRODID:-//ChamberMaster//Event Calendar 2.0//EN
METHOD:PUBLISH
X-PUBLISHED-TTL:P3D
REFRESH-INTERVAL:P3D
CALSCALE:GREGORIAN
BEGIN:VEVENT
DTSTART:20161118T200000Z
DTEND:20161118T200000Z
X-MICROSOFT-CDO-ALLDAYEVENT:FALSE
SUMMARY:Ribbon Cutting for Community College Boulevard
DESCRIPTION:Ribbon Cutting
X-ALT-DESC;FMTTYPE=text/html:Ribbon Cutting
LOCATION:Career Technical Building 1060 Commercial Park Drive\, Pearl
UID:e.1195.5316
SEQUENCE:3
DTSTAMP:20260424T055037Z
URL:https://members.flowoodchamber.com/events/details/ribbon-cutting-for-community-college-boulevard-5316
END:VEVENT

END:VCALENDAR
