BEGIN:VCALENDAR
VERSION:2.0
PRODID:-//ChamberMaster//Event Calendar 2.0//EN
METHOD:PUBLISH
X-PUBLISHED-TTL:P3D
REFRESH-INTERVAL:P3D
CALSCALE:GREGORIAN
BEGIN:VEVENT
DTSTART:20190813T153000Z
DTEND:20190813T153000Z
X-MICROSOFT-CDO-ALLDAYEVENT:FALSE
SUMMARY:Ribbon Cutting for CPR Stars of Mississippi
DESCRIPTION:Ribbon Cutting
X-ALT-DESC;FMTTYPE=text/html:Ribbon Cutting
LOCATION:115 Laurel Park Cove\, Suite 108 Flowood\, MS 39232
UID:e.1195.5547
SEQUENCE:3
DTSTAMP:20260422T014614Z
URL:https://members.flowoodchamber.com/events/details/ribbon-cutting-for-cpr-stars-of-mississippi-5547
END:VEVENT

END:VCALENDAR
