BEGIN:VCALENDAR
VERSION:2.0
PRODID:-//ChamberMaster//Event Calendar 2.0//EN
METHOD:PUBLISH
X-PUBLISHED-TTL:P3D
REFRESH-INTERVAL:P3D
CALSCALE:GREGORIAN
BEGIN:VEVENT
DTSTART:20190501T153000Z
DTEND:20190501T153000Z
X-MICROSOFT-CDO-ALLDAYEVENT:FALSE
SUMMARY:Ribbon Cutting for DynaKleen Business Systems\, LLC
DESCRIPTION:Ribbon Cutting
X-ALT-DESC;FMTTYPE=text/html:Ribbon Cutting
LOCATION:1018 N Flowood Drive\, Suite B Flowood\, MS 39232
UID:e.1195.5526
SEQUENCE:3
DTSTAMP:20260422T073439Z
URL:https://members.flowoodchamber.com/events/details/ribbon-cutting-for-dynakleen-business-systems-llc-5526
END:VEVENT

END:VCALENDAR
