BEGIN:VCALENDAR
VERSION:2.0
PRODID:-//ChamberMaster//Event Calendar 2.0//EN
METHOD:PUBLISH
X-PUBLISHED-TTL:P3D
REFRESH-INTERVAL:P3D
CALSCALE:GREGORIAN
BEGIN:VEVENT
DTSTART:20191203T163000Z
DTEND:20191203T163000Z
X-MICROSOFT-CDO-ALLDAYEVENT:FALSE
SUMMARY:Ribbon Cutting for Eat & Run MS
DESCRIPTION:Ribbon Cutting
X-ALT-DESC;FMTTYPE=text/html:Ribbon Cutting&nbsp\;&nbsp\;&nbsp\;&nbsp\;
LOCATION:115 Laurel Park Cove\, Suite 108 Flowood\, MS 39232
UID:e.1195.5570
SEQUENCE:3
DTSTAMP:20260421T205414Z
URL:https://members.flowoodchamber.com/events/details/ribbon-cutting-for-eat-run-ms-5570
END:VEVENT

END:VCALENDAR
