BEGIN:VCALENDAR
VERSION:2.0
PRODID:-//ChamberMaster//Event Calendar 2.0//EN
METHOD:PUBLISH
X-PUBLISHED-TTL:P3D
REFRESH-INTERVAL:P3D
CALSCALE:GREGORIAN
BEGIN:VEVENT
DTSTART:20171107T160000Z
DTEND:20171107T160000Z
X-MICROSOFT-CDO-ALLDAYEVENT:FALSE
SUMMARY:Ribbon Cutting for Families First for Mississippi
DESCRIPTION:Ribbon Cutting
X-ALT-DESC;FMTTYPE=text/html:Ribbon Cutting
LOCATION:276 Nissan Parkway\, Bldg B\, Ste. 200 & 300 Canton\, MS 39046
UID:e.1195.5407
SEQUENCE:3
DTSTAMP:20260423T112036Z
URL:https://members.flowoodchamber.com/events/details/ribbon-cutting-for-families-first-for-mississippi-5407
END:VEVENT

END:VCALENDAR
