BEGIN:VCALENDAR
VERSION:2.0
PRODID:-//ChamberMaster//Event Calendar 2.0//EN
METHOD:PUBLISH
X-PUBLISHED-TTL:P3D
REFRESH-INTERVAL:P3D
CALSCALE:GREGORIAN
BEGIN:VEVENT
DTSTART:20171218T163000Z
DTEND:20171218T163000Z
X-MICROSOFT-CDO-ALLDAYEVENT:FALSE
SUMMARY:Ribbon Cutting for Flowod Nails and Spa
DESCRIPTION:Ribbon Cutting
X-ALT-DESC;FMTTYPE=text/html:Ribbon Cutting
LOCATION:1679 Old Fannin Road\, Suite G Flowood\, MS 39232
UID:e.1195.5418
SEQUENCE:3
DTSTAMP:20260423T093120Z
URL:https://members.flowoodchamber.com/events/details/ribbon-cutting-for-flowod-nails-and-spa-5418
END:VEVENT

END:VCALENDAR
