BEGIN:VCALENDAR
VERSION:2.0
PRODID:-//ChamberMaster//Event Calendar 2.0//EN
METHOD:PUBLISH
X-PUBLISHED-TTL:P3D
REFRESH-INTERVAL:P3D
CALSCALE:GREGORIAN
BEGIN:VEVENT
DTSTART:20171215T163000Z
DTEND:20171215T163000Z
X-MICROSOFT-CDO-ALLDAYEVENT:FALSE
SUMMARY:Ribbon Cutting for Flowood Urgent Care
DESCRIPTION:Ribbon Cutting
X-ALT-DESC;FMTTYPE=text/html:Ribbon Cutting&nbsp\;&nbsp\;&nbsp\;&nbsp\;&nbsp\;&nbsp\;&nbsp\;&nbsp\;
LOCATION:2605 Courthouse Circle Flowood\, MS 39232
UID:e.1195.5416
SEQUENCE:3
DTSTAMP:20260423T094217Z
URL:https://members.flowoodchamber.com/events/details/ribbon-cutting-for-flowood-urgent-care-5416
END:VEVENT

END:VCALENDAR
