BEGIN:VCALENDAR
VERSION:2.0
PRODID:-//ChamberMaster//Event Calendar 2.0//EN
METHOD:PUBLISH
X-PUBLISHED-TTL:P3D
REFRESH-INTERVAL:P3D
CALSCALE:GREGORIAN
BEGIN:VEVENT
DTSTART:20161012T153000Z
DTEND:20161012T153000Z
X-MICROSOFT-CDO-ALLDAYEVENT:FALSE
SUMMARY:Ribbon Cutting for Freshii
DESCRIPTION:Ribbon Cutting
X-ALT-DESC;FMTTYPE=text/html:Ribbon Cutting&nbsp\;&nbsp\;&nbsp\;&nbsp\;&nbsp\;&nbsp\;&nbsp\;&nbsp\;
LOCATION:736 Mackenzie Lane Flowood\, MS 39232
UID:e.1195.5298
SEQUENCE:3
DTSTAMP:20260424T075126Z
URL:https://members.flowoodchamber.com/events/details/ribbon-cutting-for-freshii-5298
END:VEVENT

END:VCALENDAR
