BEGIN:VCALENDAR
VERSION:2.0
PRODID:-//ChamberMaster//Event Calendar 2.0//EN
METHOD:PUBLISH
X-PUBLISHED-TTL:P3D
REFRESH-INTERVAL:P3D
CALSCALE:GREGORIAN
BEGIN:VEVENT
DTSTART:20190820T153000Z
DTEND:20190820T153000Z
X-MICROSOFT-CDO-ALLDAYEVENT:FALSE
SUMMARY:Ribbon Cutting for Iberia Bank Mortgage
DESCRIPTION:Ribbon Cutting
X-ALT-DESC;FMTTYPE=text/html:Ribbon Cutting
LOCATION:115 Laurel Park Cove\, Ste. 200 Flowood\, MS 39232
UID:e.1195.5545
SEQUENCE:3
DTSTAMP:20260422T015606Z
URL:https://members.flowoodchamber.com/events/details/ribbon-cutting-for-iberia-bank-mortgage-5545
END:VEVENT

END:VCALENDAR
