BEGIN:VCALENDAR
VERSION:2.0
PRODID:-//ChamberMaster//Event Calendar 2.0//EN
METHOD:PUBLISH
X-PUBLISHED-TTL:P3D
REFRESH-INTERVAL:P3D
CALSCALE:GREGORIAN
BEGIN:VEVENT
DTSTART:20170221T163000Z
DTEND:20170221T163000Z
X-MICROSOFT-CDO-ALLDAYEVENT:FALSE
SUMMARY:Ribbon Cutting for Lacru Salon
DESCRIPTION:Ribbon Cutting
X-ALT-DESC;FMTTYPE=text/html:Ribbon Cutting
LOCATION:Lacru Salon 5352 Lakeland Dr\, Ste 2000 Flowood\, MS 39232
UID:e.1195.5327
SEQUENCE:3
DTSTAMP:20260424T014511Z
URL:https://members.flowoodchamber.com/events/details/ribbon-cutting-for-lacru-salon-5327
END:VEVENT

END:VCALENDAR
