BEGIN:VCALENDAR
VERSION:2.0
PRODID:-//ChamberMaster//Event Calendar 2.0//EN
METHOD:PUBLISH
X-PUBLISHED-TTL:P3D
REFRESH-INTERVAL:P3D
CALSCALE:GREGORIAN
BEGIN:VEVENT
DTSTART:20170420T153000Z
DTEND:20170420T153000Z
X-MICROSOFT-CDO-ALLDAYEVENT:FALSE
SUMMARY:Ribbon Cutting for Lil Ms Promo
DESCRIPTION:Ribbon Cutting
X-ALT-DESC;FMTTYPE=text/html:Ribbon Cutting
LOCATION:1679 Old Fannin Rd\, Ste H Flowood\, MS 39232
UID:e.1195.5349
SEQUENCE:3
DTSTAMP:20260423T230957Z
URL:https://members.flowoodchamber.com/events/details/ribbon-cutting-for-lil-ms-promo-5349
END:VEVENT

END:VCALENDAR
