BEGIN:VCALENDAR
VERSION:2.0
PRODID:-//ChamberMaster//Event Calendar 2.0//EN
METHOD:PUBLISH
X-PUBLISHED-TTL:P3D
REFRESH-INTERVAL:P3D
CALSCALE:GREGORIAN
BEGIN:VEVENT
DTSTART:20161117T160000Z
DTEND:20161117T160000Z
X-MICROSOFT-CDO-ALLDAYEVENT:FALSE
SUMMARY:Ribbon Cutting for Little Big Box
DESCRIPTION:Ribbon Cutting
X-ALT-DESC;FMTTYPE=text/html:Ribbon Cutting
LOCATION:3542 Hwy 80 E Pearl\, MS 39208
UID:e.1195.5315
SEQUENCE:3
DTSTAMP:20260424T055019Z
URL:https://members.flowoodchamber.com/events/details/ribbon-cutting-for-little-big-box-5315
END:VEVENT

END:VCALENDAR
