BEGIN:VCALENDAR
VERSION:2.0
PRODID:-//ChamberMaster//Event Calendar 2.0//EN
METHOD:PUBLISH
X-PUBLISHED-TTL:P3D
REFRESH-INTERVAL:P3D
CALSCALE:GREGORIAN
BEGIN:VEVENT
DTSTART:20180111T163000Z
DTEND:20180111T163000Z
X-MICROSOFT-CDO-ALLDAYEVENT:FALSE
SUMMARY:Ribbon Cutting for MaxFit Sports Nutrition
DESCRIPTION:Ribbon Cutting
X-ALT-DESC;FMTTYPE=text/html:Ribbon Cutting
LOCATION:270 Dogwood Blvd Flowood\, MS 39232
UID:e.1195.5422
SEQUENCE:3
DTSTAMP:20260423T083240Z
URL:https://members.flowoodchamber.com/events/details/ribbon-cutting-for-maxfit-sports-nutrition-5422
END:VEVENT

END:VCALENDAR
