BEGIN:VCALENDAR
VERSION:2.0
PRODID:-//ChamberMaster//Event Calendar 2.0//EN
METHOD:PUBLISH
X-PUBLISHED-TTL:P3D
REFRESH-INTERVAL:P3D
CALSCALE:GREGORIAN
BEGIN:VEVENT
DTSTART:20190611T203000Z
DTEND:20190611T203000Z
X-MICROSOFT-CDO-ALLDAYEVENT:FALSE
SUMMARY:Ribbon Cutting for MORA's Garden of Hope
DESCRIPTION:Ribbon Cutting
X-ALT-DESC;FMTTYPE=text/html:Ribbon Cutting
LOCATION:4400 Lakeland Drive Flowood\, MS 39232
UID:e.1195.5532
SEQUENCE:3
DTSTAMP:20260422T052040Z
URL:https://members.flowoodchamber.com/events/details/ribbon-cutting-for-mora-s-garden-of-hope-5532
END:VEVENT

END:VCALENDAR
