BEGIN:VCALENDAR
VERSION:2.0
PRODID:-//ChamberMaster//Event Calendar 2.0//EN
METHOD:PUBLISH
X-PUBLISHED-TTL:P3D
REFRESH-INTERVAL:P3D
CALSCALE:GREGORIAN
BEGIN:VEVENT
DTSTART:20180621T153000Z
DTEND:20180621T153000Z
X-MICROSOFT-CDO-ALLDAYEVENT:FALSE
SUMMARY:Ribbon Cutting for MS Hair Restoration
DESCRIPTION:Ribbon Cutting
X-ALT-DESC;FMTTYPE=text/html:Ribbon Cutting
LOCATION:655 Lake Harbour Drive Ridgeland\, MS 39157
UID:e.1195.5465
SEQUENCE:3
DTSTAMP:20260423T005705Z
URL:https://members.flowoodchamber.com/events/details/ribbon-cutting-for-ms-hair-restoration-5465
END:VEVENT

END:VCALENDAR
