BEGIN:VCALENDAR
VERSION:2.0
PRODID:-//ChamberMaster//Event Calendar 2.0//EN
METHOD:PUBLISH
X-PUBLISHED-TTL:P3D
REFRESH-INTERVAL:P3D
CALSCALE:GREGORIAN
BEGIN:VEVENT
DTSTART:20191113T163000Z
DTEND:20191113T163000Z
X-MICROSOFT-CDO-ALLDAYEVENT:FALSE
SUMMARY:Ribbon Cutting for Shelter Insurance-Bradford Foster Agency
DESCRIPTION:Ribbon Cutting
X-ALT-DESC;FMTTYPE=text/html:Ribbon Cutting
LOCATION:690 Grants Ferry Road\, Suite B Flowood\, MS 39232
UID:e.1195.5568
SEQUENCE:3
DTSTAMP:20260421T213302Z
URL:https://members.flowoodchamber.com/events/details/ribbon-cutting-for-shelter-insurance-bradford-foster-agency-5568
END:VEVENT

END:VCALENDAR
