BEGIN:VCALENDAR
VERSION:2.0
PRODID:-//ChamberMaster//Event Calendar 2.0//EN
METHOD:PUBLISH
X-PUBLISHED-TTL:P3D
REFRESH-INTERVAL:P3D
CALSCALE:GREGORIAN
BEGIN:VEVENT
DTSTART:20250605T153000Z
DTEND:20250605T160000Z
X-MICROSOFT-CDO-ALLDAYEVENT:FALSE
SUMMARY:Ribbon Cutting for Southern Smile Studio
DESCRIPTION:Join us as we celebrate the grand opening of Southern Smile Studio with a ribbon cutting!
X-ALT-DESC;FMTTYPE=text/html:Join us as we celebrate the grand opening of Southern Smile Studio with a ribbon cutting!
LOCATION:
UID:e.1195.6704
SEQUENCE:3
DTSTAMP:20260420T030514Z
URL:https://members.flowoodchamber.com/events/details/ribbon-cutting-for-southern-smile-studio-6704
END:VEVENT

END:VCALENDAR
