BEGIN:VCALENDAR
VERSION:2.0
PRODID:-//ChamberMaster//Event Calendar 2.0//EN
METHOD:PUBLISH
X-PUBLISHED-TTL:P3D
REFRESH-INTERVAL:P3D
CALSCALE:GREGORIAN
BEGIN:VEVENT
DTSTART:20250321T200000Z
DTEND:20250321T203000Z
X-MICROSOFT-CDO-ALLDAYEVENT:FALSE
SUMMARY:Ribbon Cutting for Southern Specialty Clinic
DESCRIPTION:Join us as we celebrate Southern Specialty Clinic's new space and first-ever location with a ribbon cutting!
X-ALT-DESC;FMTTYPE=text/html:Join us as we celebrate Southern Specialty Clinic&#39\;s new space and first-ever location with a ribbon cutting!
LOCATION:
UID:e.1195.6683
SEQUENCE:3
DTSTAMP:20260420T080835Z
URL:https://members.flowoodchamber.com/events/details/ribbon-cutting-for-southern-specialty-clinic-6683
END:VEVENT

END:VCALENDAR
