BEGIN:VCALENDAR
VERSION:2.0
PRODID:-//ChamberMaster//Event Calendar 2.0//EN
METHOD:PUBLISH
X-PUBLISHED-TTL:P3D
REFRESH-INTERVAL:P3D
CALSCALE:GREGORIAN
BEGIN:VEVENT
DTSTART:20161201T163000Z
DTEND:20161201T163000Z
X-MICROSOFT-CDO-ALLDAYEVENT:FALSE
SUMMARY:Ribbon Cutting for Sprouted Heart Acupuncture & Wellness
DESCRIPTION:Ribbon Cutting
X-ALT-DESC;FMTTYPE=text/html:Ribbon Cutting
LOCATION:200 Park Circle Drive\, Suite 4 Flowood\, MS 39232
UID:e.1195.5319
SEQUENCE:3
DTSTAMP:20260424T043824Z
URL:https://members.flowoodchamber.com/events/details/ribbon-cutting-for-sprouted-heart-acupuncture-wellness-5319
END:VEVENT

END:VCALENDAR
