BEGIN:VCALENDAR
VERSION:2.0
PRODID:-//ChamberMaster//Event Calendar 2.0//EN
METHOD:PUBLISH
X-PUBLISHED-TTL:P3D
REFRESH-INTERVAL:P3D
CALSCALE:GREGORIAN
BEGIN:VEVENT
DTSTART:20170810T153000Z
DTEND:20170810T153000Z
X-MICROSOFT-CDO-ALLDAYEVENT:FALSE
SUMMARY:Ribbon Cutting for State Farm-Malcolm Houston Agency
DESCRIPTION:Ribbon Cutting
X-ALT-DESC;FMTTYPE=text/html:Ribbon Cutting
LOCATION:5352 Hwy 25\, Suite 1500 Flowood\, MS 39232
UID:e.1195.5387
SEQUENCE:3
DTSTAMP:20260423T164155Z
URL:https://members.flowoodchamber.com/events/details/ribbon-cutting-for-state-farm-malcolm-houston-agency-5387
END:VEVENT

END:VCALENDAR
