BEGIN:VCALENDAR
VERSION:2.0
PRODID:-//ChamberMaster//Event Calendar 2.0//EN
METHOD:PUBLISH
X-PUBLISHED-TTL:P3D
REFRESH-INTERVAL:P3D
CALSCALE:GREGORIAN
BEGIN:VEVENT
DTSTART:20180518T153000Z
DTEND:20180518T153000Z
X-MICROSOFT-CDO-ALLDAYEVENT:FALSE
SUMMARY:Ribbon Cutting for The Mustard Seed-Men's Group Home
DESCRIPTION:Ribbon Cutting
X-ALT-DESC;FMTTYPE=text/html:Ribbon Cutting
LOCATION:1085 Luckney Road Brandon\, MS 39047
UID:e.1195.5453
SEQUENCE:3
DTSTAMP:20260423T023554Z
URL:https://members.flowoodchamber.com/events/details/ribbon-cutting-for-the-mustard-seed-men-s-group-home-5453
END:VEVENT

END:VCALENDAR
