BEGIN:VCALENDAR
VERSION:2.0
PRODID:-//ChamberMaster//Event Calendar 2.0//EN
METHOD:PUBLISH
X-PUBLISHED-TTL:P3D
REFRESH-INTERVAL:P3D
CALSCALE:GREGORIAN
BEGIN:VEVENT
DTSTART:20171101T160000Z
DTEND:20171101T160000Z
X-MICROSOFT-CDO-ALLDAYEVENT:FALSE
SUMMARY:Ribbon Cutting for Two Gun Tactical
DESCRIPTION:Ribbon Cutting
X-ALT-DESC;FMTTYPE=text/html:Ribbon Cutting&nbsp\;&nbsp\;&nbsp\;&nbsp\;&nbsp\;&nbsp\;&nbsp\;&nbsp\;
LOCATION:667 Caseys Lane Flowood\, MS 39232
UID:e.1195.5405
SEQUENCE:3
DTSTAMP:20260423T112320Z
URL:https://members.flowoodchamber.com/events/details/ribbon-cutting-for-two-gun-tactical-5405
END:VEVENT

END:VCALENDAR
