BEGIN:VCALENDAR
VERSION:2.0
PRODID:-//ChamberMaster//Event Calendar 2.0//EN
METHOD:PUBLISH
X-PUBLISHED-TTL:P3D
REFRESH-INTERVAL:P3D
CALSCALE:GREGORIAN
BEGIN:VEVENT
DTSTART:20180125T163000Z
DTEND:20180125T163000Z
X-MICROSOFT-CDO-ALLDAYEVENT:FALSE
SUMMARY:Ribbon Cutting for Walker & Company CPAs\, PA
DESCRIPTION:Ribbon Cutting
X-ALT-DESC;FMTTYPE=text/html:Ribbon Cutting&nbsp\;&nbsp\;&nbsp\;&nbsp\;&nbsp\;&nbsp\;&nbsp\;&nbsp\;&nbsp\;&nbsp\;&nbsp\;&nbsp\;
LOCATION:2001 Airport Road North\, Suite 303 Flowood\, MS 39232
UID:e.1195.5429
SEQUENCE:3
DTSTAMP:20260423T083144Z
URL:https://members.flowoodchamber.com/events/details/ribbon-cutting-for-walker-company-cpas-pa-5429
END:VEVENT

END:VCALENDAR
