BEGIN:VCALENDAR
VERSION:2.0
PRODID:-//ChamberMaster//Event Calendar 2.0//EN
METHOD:PUBLISH
X-PUBLISHED-TTL:P3D
REFRESH-INTERVAL:P3D
CALSCALE:GREGORIAN
BEGIN:VEVENT
DTSTART:20190927T153000Z
DTEND:20190927T153000Z
X-MICROSOFT-CDO-ALLDAYEVENT:FALSE
SUMMARY:Ribbon Cutting for WIngstop
DESCRIPTION:Ribbon Cutting
X-ALT-DESC;FMTTYPE=text/html:Ribbon Cutting
LOCATION:901 Lakeland Place\, Ste. 5A Flowood\, MS 39232
UID:e.1195.5554
SEQUENCE:3
DTSTAMP:20260422T003810Z
URL:https://members.flowoodchamber.com/events/details/ribbon-cutting-for-wingstop-5554
END:VEVENT

END:VCALENDAR
