BEGIN:VCALENDAR
VERSION:2.0
PRODID:-//ChamberMaster//Event Calendar 2.0//EN
METHOD:PUBLISH
X-PUBLISHED-TTL:P3D
REFRESH-INTERVAL:P3D
CALSCALE:GREGORIAN
BEGIN:VEVENT
DTSTART:20250415T153000Z
DTEND:20250415T160000Z
X-MICROSOFT-CDO-ALLDAYEVENT:FALSE
SUMMARY:Ribbon Cutting for Xian Ramen
DESCRIPTION:Join us as we celebrate Xian Ramen with a ribbon cutting!
X-ALT-DESC;FMTTYPE=text/html:Join us as we celebrate Xian Ramen with a ribbon cutting!
LOCATION:
UID:e.1195.6691
SEQUENCE:3
DTSTAMP:20260420T063754Z
URL:https://members.flowoodchamber.com/events/details/ribbon-cutting-for-xian-ramen-6691
END:VEVENT

END:VCALENDAR
