BEGIN:VCALENDAR
VERSION:2.0
PRODID:-//ChamberMaster//Event Calendar 2.0//EN
METHOD:PUBLISH
X-PUBLISHED-TTL:P3D
REFRESH-INTERVAL:P3D
CALSCALE:GREGORIAN
BEGIN:VEVENT
DTSTART:20170724T140000Z
DTEND:20170724T140000Z
X-MICROSOFT-CDO-ALLDAYEVENT:FALSE
SUMMARY:Ribbon Cutting for YMCA Inclusive Camp Program
DESCRIPTION:Ribbon Cutting
X-ALT-DESC;FMTTYPE=text/html:Ribbon Cutting&nbsp\;&nbsp\;&nbsp\;&nbsp\;
LOCATION:6023 Lakeshore Pk Brandon\, MS 39047
UID:e.1195.5375
SEQUENCE:3
DTSTAMP:20260423T181826Z
URL:https://members.flowoodchamber.com/events/details/ribbon-cutting-for-ymca-inclusive-camp-program-5375
END:VEVENT

END:VCALENDAR
