BEGIN:VCALENDAR
VERSION:2.0
PRODID:-//ChamberMaster//Event Calendar 2.0//EN
METHOD:PUBLISH
X-PUBLISHED-TTL:P3D
REFRESH-INTERVAL:P3D
CALSCALE:GREGORIAN
BEGIN:VEVENT
DTSTART:20161115T220000Z
DTEND:20161116T000000Z
X-MICROSOFT-CDO-ALLDAYEVENT:FALSE
SUMMARY:Ribbon Cutting/ Open House for Mike Wright Jewelers
DESCRIPTION:Ribbon Cutting/Open House
X-ALT-DESC;FMTTYPE=text/html:Ribbon Cutting/Open House
LOCATION:1139 Old Fannin Road\, Suite A Brandon\, MS 39047
UID:e.1195.5313
SEQUENCE:3
DTSTAMP:20260424T055926Z
URL:https://members.flowoodchamber.com/events/details/ribbon-cutting-open-house-for-mike-wright-jewelers-5313
END:VEVENT

END:VCALENDAR
