BEGIN:VCALENDAR
VERSION:2.0
PRODID:-//ChamberMaster//Event Calendar 2.0//EN
METHOD:PUBLISH
X-PUBLISHED-TTL:P3D
REFRESH-INTERVAL:P3D
CALSCALE:GREGORIAN
BEGIN:VEVENT
DTSTART:20170718T153000Z
DTEND:20170718T153000Z
X-MICROSOFT-CDO-ALLDAYEVENT:FALSE
SUMMARY:Ribbon Cuttting fo Culture Concepts- The Safety Solution
DESCRIPTION:Ribbon Cutting
X-ALT-DESC;FMTTYPE=text/html:Ribbon Cutting&nbsp\;&nbsp\;&nbsp\;&nbsp\;
LOCATION:Rankin Chamber of Commerce 101 Service Drive Brandon\, MS 39042
UID:e.1195.5372
SEQUENCE:3
DTSTAMP:20260423T181939Z
URL:https://members.flowoodchamber.com/events/details/ribbon-cuttting-fo-culture-concepts-the-safety-solution-5372
END:VEVENT

END:VCALENDAR
