BEGIN:VCALENDAR
VERSION:2.0
PRODID:-//ChamberMaster//Event Calendar 2.0//EN
METHOD:PUBLISH
X-PUBLISHED-TTL:P3D
REFRESH-INTERVAL:P3D
CALSCALE:GREGORIAN
BEGIN:VEVENT
DTSTART:20160817T153000Z
DTEND:20160817T153000Z
X-MICROSOFT-CDO-ALLDAYEVENT:FALSE
SUMMARY:Sister Sister Monogramming and Boutique RC
DESCRIPTION:Ribbon Cutting
X-ALT-DESC;FMTTYPE=text/html:Ribbon Cutting&nbsp\;&nbsp\;&nbsp\;&nbsp\;&nbsp\;&nbsp\;&nbsp\;&nbsp\;
LOCATION:509 Liberty Road Suite A Flowood\, MS 39232
UID:e.1195.5275
SEQUENCE:3
DTSTAMP:20260424T105334Z
URL:https://members.flowoodchamber.com/events/details/sister-sister-monogramming-and-boutique-rc-08-17-2016-5275
END:VEVENT

END:VCALENDAR
