BEGIN:VCALENDAR
VERSION:2.0
PRODID:-//ChamberMaster//Event Calendar 2.0//EN
METHOD:PUBLISH
X-PUBLISHED-TTL:P3D
REFRESH-INTERVAL:P3D
CALSCALE:GREGORIAN
BEGIN:VEVENT
DTSTART:20191028T163000Z
DTEND:20191028T180000Z
X-MICROSOFT-CDO-ALLDAYEVENT:FALSE
SUMMARY:Speed Networking
DESCRIPTION:Speed Networking
X-ALT-DESC;FMTTYPE=text/html:Speed Networking<br />\n&nbsp\;
LOCATION:Amerigo
UID:e.1195.5197
SEQUENCE:3
DTSTAMP:20260421T225827Z
URL:https://members.flowoodchamber.com/events/details/speed-networking-02-29-2016-5197
END:VEVENT

END:VCALENDAR
