BEGIN:VCALENDAR
VERSION:2.0
PRODID:-//ChamberMaster//Event Calendar 2.0//EN
METHOD:PUBLISH
X-PUBLISHED-TTL:P3D
REFRESH-INTERVAL:P3D
CALSCALE:GREGORIAN
BEGIN:VEVENT
DTSTART:20150428T153000Z
DTEND:20150428T153000Z
X-MICROSOFT-CDO-ALLDAYEVENT:FALSE
SUMMARY:Sync IT Solutions RC
DESCRIPTION:Ribbon Cutting
X-ALT-DESC;FMTTYPE=text/html:Ribbon Cutting
LOCATION:196 Charmont Drive Suite 2 Ridgeland\, MS
UID:e.1195.4538
SEQUENCE:3
DTSTAMP:20260425T172311Z
URL:https://members.flowoodchamber.com/events/details/sync-it-solutions-rc-04-28-2015-4538
END:VEVENT

END:VCALENDAR
