BEGIN:VCALENDAR
VERSION:2.0
PRODID:-//ChamberMaster//Event Calendar 2.0//EN
METHOD:PUBLISH
X-PUBLISHED-TTL:P3D
REFRESH-INTERVAL:P3D
CALSCALE:GREGORIAN
BEGIN:VEVENT
DTSTART:20160718T220000Z
DTEND:20160718T220000Z
X-MICROSOFT-CDO-ALLDAYEVENT:FALSE
SUMMARY:The Club 24 RC
DESCRIPTION:Ribbon Cutting
X-ALT-DESC;FMTTYPE=text/html:Ribbon Cutting&nbsp\;&nbsp\;&nbsp\;&nbsp\;
LOCATION:The Club 24 5352 Highway 25 Flowood\, MS 39232
UID:e.1195.5270
SEQUENCE:3
DTSTAMP:20260424T122306Z
URL:https://members.flowoodchamber.com/events/details/the-club-24-rc-07-18-2016-5270
END:VEVENT

END:VCALENDAR
