BEGIN:VCALENDAR
VERSION:2.0
PRODID:-//ChamberMaster//Event Calendar 2.0//EN
METHOD:PUBLISH
X-PUBLISHED-TTL:P3D
REFRESH-INTERVAL:P3D
CALSCALE:GREGORIAN
BEGIN:VEVENT
DTSTART:20141022T153000Z
DTEND:20141022T153000Z
X-MICROSOFT-CDO-ALLDAYEVENT:FALSE
SUMMARY:The Haygood Group\, LLC RC
DESCRIPTION:Ribbon Cutting
X-ALT-DESC;FMTTYPE=text/html:Ribbon Cutting
LOCATION:1050 North Park Drive Suite D Ridgeland MS 39157
UID:e.1195.3370
SEQUENCE:3
DTSTAMP:20260426T032440Z
URL:https://members.flowoodchamber.com/events/details/the-haygood-group-llc-rc-10-22-2014-3370
END:VEVENT

END:VCALENDAR
