BEGIN:VCALENDAR
VERSION:2.0
PRODID:-//ChamberMaster//Event Calendar 2.0//EN
METHOD:PUBLISH
X-PUBLISHED-TTL:P3D
REFRESH-INTERVAL:P3D
CALSCALE:GREGORIAN
BEGIN:VEVENT
DTSTART:20161003T130000Z
DTEND:20161003T130000Z
X-MICROSOFT-CDO-ALLDAYEVENT:FALSE
SUMMARY:Wal-Mart Pick-Up Program Ribbon Cutting
DESCRIPTION:Ribbon Cutting
X-ALT-DESC;FMTTYPE=text/html:Ribbon Cutting&nbsp\;&nbsp\;&nbsp\;&nbsp\;
LOCATION:5341 Lakeland Drive Flowood\, MS 39232
UID:e.1195.5291
SEQUENCE:3
DTSTAMP:20260424T075007Z
URL:https://members.flowoodchamber.com/events/details/wal-mart-pick-up-program-ribbon-cutting-5291
END:VEVENT

END:VCALENDAR
