BEGIN:VCALENDAR
VERSION:2.0
PRODID:-//ChamberMaster//Event Calendar 2.0//EN
METHOD:PUBLISH
X-PUBLISHED-TTL:P3D
REFRESH-INTERVAL:P3D
CALSCALE:GREGORIAN
BEGIN:VEVENT
DTSTART:20150710T140000Z
DTEND:20150710T140000Z
X-MICROSOFT-CDO-ALLDAYEVENT:FALSE
SUMMARY:West Rankin Parkway Ground Breaking
DESCRIPTION:Ground Breaking \n\nWest Rankin Parkway
X-ALT-DESC;FMTTYPE=text/html:Ground Breaking&nbsp\;<br />\nWest Rankin Parkway<br />\n&nbsp\;
LOCATION:Intersection of Hwy 80 & Pearson Road Pearl\, MS Parking will be in the right lane of Hwy 80
UID:e.1195.5172
SEQUENCE:3
DTSTAMP:20260425T120905Z
URL:https://members.flowoodchamber.com/events/details/west-rankin-parkway-ground-breaking-07-10-2015-5172
END:VEVENT

END:VCALENDAR
