BEGIN:VCALENDAR
VERSION:2.0
PRODID:-//ChamberMaster//Event Calendar 2.0//EN
METHOD:PUBLISH
X-PUBLISHED-TTL:P3D
REFRESH-INTERVAL:P3D
CALSCALE:GREGORIAN
BEGIN:VEVENT
DTSTART:20250219T173000Z
DTEND:20250219T190000Z
X-MICROSOFT-CDO-ALLDAYEVENT:FALSE
SUMMARY:"Your Heart Matters" National Heart Month Event\, Presented by Baptist
DESCRIPTION:In honor of National Heart Month\, Baptist Heart is sponsoring Your Heart Matters\, a special event focused on heart health! Learn more about disease and risk factors from Baptist Heart's H. Chris Waterer\, III\, MD and enjoy a boxed lunch and painting craft with The Stompin' Grounds.
X-ALT-DESC;FMTTYPE=text/html:In honor of National Heart Month\, Baptist Heart is sponsoring Your Heart Matters\, a special event focused on <strong>heart health</strong>! Learn more about disease and risk factors from Baptist Heart&#39\;s H. Chris Waterer\, III\, MD and enjoy a boxed lunch and painting craft with The Stompin&#39\; Grounds.
LOCATION:The Belhaven
UID:e.1195.6675
SEQUENCE:3
DTSTAMP:20260422T102403Z
URL:https://members.flowoodchamber.com/events/details/your-heart-matters-national-heart-month-event-presented-by-baptist-6675
END:VEVENT

END:VCALENDAR
